BEGIN:VCALENDAR
VERSION:2.0
PRODID:-//Caniad - ECPv6.15.20//NONSGML v1.0//EN
CALSCALE:GREGORIAN
METHOD:PUBLISH
X-ORIGINAL-URL:https://caniad.org.uk
X-WR-CALDESC:Events for Caniad
REFRESH-INTERVAL;VALUE=DURATION:PT1H
X-Robots-Tag:noindex
X-PUBLISHED-TTL:PT1H
BEGIN:VTIMEZONE
TZID:UTC
BEGIN:STANDARD
TZOFFSETFROM:+0000
TZOFFSETTO:+0000
TZNAME:UTC
DTSTART:20230101T000000
END:STANDARD
END:VTIMEZONE
BEGIN:VEVENT
DTSTART;TZID=UTC:20240312T130000
DTEND;TZID=UTC:20240312T150000
DTSTAMP:20260423T225356
CREATED:20240220T161211Z
LAST-MODIFIED:20240220T161211Z
UID:256161-1710248400-1710255600@caniad.org.uk
SUMMARY:Wrexham digital skills drop-in
DESCRIPTION:
URL:https://caniad.org.uk/event/wrexham-digital-skills-drop-in/
LOCATION:Champions House\, 9-11 Grove Park Road\, Wrexham\, LL12 7AA
CATEGORIES:Wrexham
ATTACH;FMTTYPE=image/png:https://caniad.org.uk/wp-content/uploads/2024/02/Caniad-Digital-Drop-in-Champions-House-English.png
END:VEVENT
END:VCALENDAR