BEGIN:VCALENDAR
VERSION:2.0
PRODID:-//Caniad - ECPv6.15.20//NONSGML v1.0//EN
CALSCALE:GREGORIAN
METHOD:PUBLISH
X-ORIGINAL-URL:https://caniad.org.uk
X-WR-CALDESC:Events for Caniad
REFRESH-INTERVAL;VALUE=DURATION:PT1H
X-Robots-Tag:noindex
X-PUBLISHED-TTL:PT1H
BEGIN:VTIMEZONE
TZID:UTC
BEGIN:STANDARD
TZOFFSETFROM:+0000
TZOFFSETTO:+0000
TZNAME:UTC
DTSTART:20230101T000000
END:STANDARD
END:VTIMEZONE
BEGIN:VEVENT
DTSTART;TZID=UTC:20240425T120000
DTEND;TZID=UTC:20240425T133000
DTSTAMP:20260423T212614
CREATED:20240424T144128Z
LAST-MODIFIED:20240424T144128Z
UID:256287-1714046400-1714051800@caniad.org.uk
SUMMARY:Caniad Catch-up - Colwyn Bay
DESCRIPTION:
URL:https://caniad.org.uk/event/caniad-catch-up-colwyn-bay/
LOCATION:The DAWN Centre\, 35-37 Princes Drive\, Colwyn Bay\, Wales\, LL29 8PD\, United Kingdom
CATEGORIES:Conwy
ATTACH;FMTTYPE=image/jpeg:https://caniad.org.uk/wp-content/uploads/2023/08/Conwy.jpg
END:VEVENT
END:VCALENDAR